BEGIN:VCALENDAR
VERSION:2.0
PRODID:-//Atelier Sarah - ECPv6.15.20//NONSGML v1.0//EN
CALSCALE:GREGORIAN
METHOD:PUBLISH
X-ORIGINAL-URL:https://sarah-berlin.com
X-WR-CALDESC:Veranstaltungen für Atelier Sarah
REFRESH-INTERVAL;VALUE=DURATION:PT1H
X-Robots-Tag:noindex
X-PUBLISHED-TTL:PT1H
BEGIN:VTIMEZONE
TZID:Europe/Berlin
BEGIN:DAYLIGHT
TZOFFSETFROM:+0100
TZOFFSETTO:+0200
TZNAME:CEST
DTSTART:20250330T010000
END:DAYLIGHT
BEGIN:STANDARD
TZOFFSETFROM:+0200
TZOFFSETTO:+0100
TZNAME:CET
DTSTART:20251026T010000
END:STANDARD
BEGIN:DAYLIGHT
TZOFFSETFROM:+0100
TZOFFSETTO:+0200
TZNAME:CEST
DTSTART:20260329T010000
END:DAYLIGHT
BEGIN:STANDARD
TZOFFSETFROM:+0200
TZOFFSETTO:+0100
TZNAME:CET
DTSTART:20261025T010000
END:STANDARD
BEGIN:DAYLIGHT
TZOFFSETFROM:+0100
TZOFFSETTO:+0200
TZNAME:CEST
DTSTART:20270328T010000
END:DAYLIGHT
BEGIN:STANDARD
TZOFFSETFROM:+0200
TZOFFSETTO:+0100
TZNAME:CET
DTSTART:20271031T010000
END:STANDARD
END:VTIMEZONE
BEGIN:VEVENT
DTSTART;TZID=Europe/Berlin:20260515T180000
DTEND;TZID=Europe/Berlin:20260515T230000
DTSTAMP:20260421T214323
CREATED:20260411T085621Z
LAST-MODIFIED:20260411T091444Z
UID:412-1778868000-1778886000@sarah-berlin.com
SUMMARY:Karl-May-Festtage Radebeul
DESCRIPTION:Buntes Programm mit Shows\, Konzerten\, Vorträgen\, Mitmachaktionen\, der berühmten Lößnitzdackelschmalspurbahn und vielen Ständen mit kulinarischen Leckereien\, Kleidung\, Spielzeug u.v.m. für Erwachsene und Kinder auf dem großen schönen Festivalgelände am Lößnitzgrund. \nIhr findet uns im Orientbereich auf dem Festgelände \nEintrittspreise variieren (bitte auf der Webseite nachlesen) \nam Freitag 0\,00 bis 5\,00€
URL:https://sarah-berlin.com/event/karl-may-festtage-radebeul-3/
LOCATION:Festgelände Karl-May-Festtage\, Lößnitzgrundstraße\, Radebeul\, 01445
ATTACH;FMTTYPE=image/webp:https://sarah-berlin.com/wp-content/uploads/2026/04/Karl-May-Festtage-Slider-_Fest-im-Sattel_.webp
END:VEVENT
END:VCALENDAR