BEGIN:VCALENDAR
VERSION:2.0
PRODID:-//Atelier Sarah - ECPv6.15.20//NONSGML v1.0//EN
CALSCALE:GREGORIAN
METHOD:PUBLISH
X-ORIGINAL-URL:https://sarah-berlin.com
X-WR-CALDESC:Veranstaltungen für Atelier Sarah
REFRESH-INTERVAL;VALUE=DURATION:PT1H
X-Robots-Tag:noindex
X-PUBLISHED-TTL:PT1H
BEGIN:VTIMEZONE
TZID:Europe/Berlin
BEGIN:DAYLIGHT
TZOFFSETFROM:+0100
TZOFFSETTO:+0200
TZNAME:CEST
DTSTART:20250330T010000
END:DAYLIGHT
BEGIN:STANDARD
TZOFFSETFROM:+0200
TZOFFSETTO:+0100
TZNAME:CET
DTSTART:20251026T010000
END:STANDARD
BEGIN:DAYLIGHT
TZOFFSETFROM:+0100
TZOFFSETTO:+0200
TZNAME:CEST
DTSTART:20260329T010000
END:DAYLIGHT
BEGIN:STANDARD
TZOFFSETFROM:+0200
TZOFFSETTO:+0100
TZNAME:CET
DTSTART:20261025T010000
END:STANDARD
BEGIN:DAYLIGHT
TZOFFSETFROM:+0100
TZOFFSETTO:+0200
TZNAME:CEST
DTSTART:20270328T010000
END:DAYLIGHT
BEGIN:STANDARD
TZOFFSETFROM:+0200
TZOFFSETTO:+0100
TZNAME:CET
DTSTART:20271031T010000
END:STANDARD
END:VTIMEZONE
BEGIN:VEVENT
DTSTART;TZID=Europe/Berlin:20260510T100000
DTEND;TZID=Europe/Berlin:20260510T180000
DTSTAMP:20260421T192428
CREATED:20260411T084440Z
LAST-MODIFIED:20260411T092612Z
UID:410-1778407200-1778436000@sarah-berlin.com
SUMMARY:World of Orient
DESCRIPTION:Das große Orient-Event in Hannover –  \nShows\, Workshops\, Basars –  \nSarah ist mit Ihrem Basarstand mittendrin.
URL:https://sarah-berlin.com/event/world-of-orient-2/
LOCATION:TKH Sportzentrum City\, Maschstraße 16\, Hannover\, Niedersachsen\, 30169
ATTACH;FMTTYPE=image/jpeg:https://sarah-berlin.com/wp-content/uploads/2026/04/WoO-2026-A5-Flyer-DV-innen-scaled-1.jpg
END:VEVENT
END:VCALENDAR